BEGIN:VCALENDAR
VERSION:2.0
PRODID:-//rifajackson.org//NONSGML kigkonsult.se iCalcreator 2.30.10//
CALSCALE:GREGORIAN
METHOD:PUBLISH
UID:2fcf262b-ce19-46c7-a664-3ae2e595b2a1
X-WR-CALDESC:Join us to pack boxes of shelf-stable\, staple food items for 
 our Senior Staples ministry! These boxes are distributed throughout West T
 ennessee to senior citizens who are food insecure. If you'd like to volunt
 eer\, please contact Tracie\, our Volunteer Coordinator\, for more informa
 tion and to get signed up.
X-WR-RELCALID:040bf96ecfa22d238eb7fdd945ec038a
X-WR-TIMEZONE:America/Chicago
BEGIN:VTIMEZONE
TZID:America/Chicago
BEGIN:STANDARD
TZNAME:CST
DTSTART:20241103T020000
TZOFFSETFROM:-0500
TZOFFSETTO:-0600
RDATE:20251102T020000
END:STANDARD
BEGIN:DAYLIGHT
TZNAME:CDT
DTSTART:20250309T020000
TZOFFSETFROM:-0600
TZOFFSETTO:-0500
RDATE:20260308T020000
END:DAYLIGHT
END:VTIMEZONE
BEGIN:VEVENT
UID:4337c35f-c6d8-479a-9785-923820c402cf
DTSTAMP:20260421T101727Z
DESCRIPTION:Join us to pack boxes of shelf-stable\, staple food items for o
 ur Senior Staples ministry! These boxes are distributed throughout West Te
 nnessee to senior citizens who are food insecure. If you'd like to volunte
 er\, please contact Tracie\, our Volunteer Coordinator\, for more informat
 ion and to get signed up.
DTSTART;TZID=America/Chicago:20250326T130000
DTEND;TZID=America/Chicago:20250326T150000
LOCATION:RIFA Warehouse\, 133 Airways Blvd\, Jackson\, TN 38301 US
SUMMARY:Senior Staples
END:VEVENT
END:VCALENDAR
