BEGIN:VCALENDAR
VERSION:2.0
PRODID:-//rifajackson.org//NONSGML kigkonsult.se iCalcreator 2.30.10//
CALSCALE:GREGORIAN
METHOD:PUBLISH
UID:c2c40977-a6d4-4998-916d-34676147991a
X-WR-CALDESC:RIFA is excited to partner with the USPS and the National Asso
 ciation of Letter Carriers (NALC) as they conduct their national food driv
 e\, Stamp Out Hunger\, on Saturday\, May 10\, 2025. Since 1993\, this food
  drive has helped feed millions of Americans each year. \n\nThe timing is 
 important with food banks\, including RIFA\, running low on donations from
  the winter holidays and with summer approaching\, when most school meal p
 rograms are suspended.\n\nThe letter carriers' Stamp Out Hunger food drive
  is held annually on the second Saturday in May. In the 30 years since “St
 amp Out Hunger” began\, the food drive has collected over 1.9 billion poun
 ds of food for struggling residents.\n\nOn May 10\, as they deliver mail\,
  Jackson letter carriers will collect your donations left in your mailboxe
 s. Residents are encouraged to leave a sturdy bag containing non-perishabl
 e foods\, such as canned soup\, canned vegetables\, canned meats and fish\
 , pasta\, rice\, or cereal in their mailbox before the regular mail delive
 ry on Saturday. These food donations help feed local residents. All donati
 ons are tax-deductible and will be picked up rain or shine.\n\nIn 2024\, J
 ackson residents donated 6\,676 pounds of food to RIFA through the Stamp O
 ut Hunger food drive!
X-WR-RELCALID:9b4b61b574605c2ddfc57eb6f20f862f
X-WR-TIMEZONE:America/Chicago
BEGIN:VTIMEZONE
TZID:America/Chicago
BEGIN:STANDARD
TZNAME:CST
DTSTART:20241103T020000
TZOFFSETFROM:-0500
TZOFFSETTO:-0600
RDATE:20251102T020000
RDATE:20261101T020000
END:STANDARD
BEGIN:DAYLIGHT
TZNAME:CDT
DTSTART:20250309T020000
TZOFFSETFROM:-0600
TZOFFSETTO:-0500
RDATE:20260308T020000
END:DAYLIGHT
END:VTIMEZONE
BEGIN:VEVENT
UID:eeb90c08-337d-42ad-bdae-4de8f90f96fd
DTSTAMP:20260423T145523Z
DESCRIPTION:RIFA is excited to partner with the USPS and the National Assoc
 iation of Letter Carriers (NALC) as they conduct their national food drive
 \, Stamp Out Hunger\, on Saturday\, May 10\, 2025. Since 1993\, this food 
 drive has helped feed millions of Americans each year. \n\nThe timing is i
 mportant with food banks\, including RIFA\, running low on donations from 
 the winter holidays and with summer approaching\, when most school meal pr
 ograms are suspended.\n\nThe letter carriers' Stamp Out Hunger food drive 
 is held annually on the second Saturday in May. In the 30 years since “Sta
 mp Out Hunger” began\, the food drive has collected over 1.9 billion pound
 s of food for struggling residents.\n\nOn May 10\, as they deliver mail\, 
 Jackson letter carriers will collect your donations left in your mailboxes
 . Residents are encouraged to leave a sturdy bag containing non-perishable
  foods\, such as canned soup\, canned vegetables\, canned meats and fish\,
  pasta\, rice\, or cereal in their mailbox before the regular mail deliver
 y on Saturday. These food donations help feed local residents. All donatio
 ns are tax-deductible and will be picked up rain or shine.\n\nIn 2024\, Ja
 ckson residents donated 6\,676 pounds of food to RIFA through the Stamp Ou
 t Hunger food drive!
DTSTART;TZID=America/Chicago:20250510T050000
DTEND;TZID=America/Chicago:20250510T050001
LOCATION:Your mailbox!
SUMMARY:Stamp Out Hunger
END:VEVENT
END:VCALENDAR
